BEGIN:VCALENDAR
VERSION:2.0
PRODID:-//Maratone - ECPv5.8.1//NONSGML v1.0//EN
CALSCALE:GREGORIAN
METHOD:PUBLISH
X-WR-CALNAME:Maratone
X-ORIGINAL-URL:https://www.maratone.com
X-WR-CALDESC:Eventi per Maratone
BEGIN:VTIMEZONE
TZID:Europe/Paris
BEGIN:DAYLIGHT
TZOFFSETFROM:+0100
TZOFFSETTO:+0200
TZNAME:CEST
DTSTART:20240331T010000
END:DAYLIGHT
BEGIN:STANDARD
TZOFFSETFROM:+0200
TZOFFSETTO:+0100
TZNAME:CET
DTSTART:20241027T010000
END:STANDARD
END:VTIMEZONE
BEGIN:VEVENT
DTSTART;VALUE=DATE:20241215
DTEND;VALUE=DATE:20241216
DTSTAMP:20260425T192556
CREATED:20241010T134353Z
LAST-MODIFIED:20241010T134353Z
UID:34901-1734220800-1734307199@www.maratone.com
SUMMARY:Maratona  di Pisa
DESCRIPTION:Unisciti a noi per la XXV edizione della Maratona di Pisa\, un evento che celebra 25 anni di storia\, passione e coraggio! ? Corri lungo un percorso che attraversa il cuore di Pisa\, passando per il Parco di San Rossore e ritornando per un arrivo sotto la Torre Pendente. Sarà un’esperienza indimenticabile\, con partecipanti da tutto il mondo e un’atmosfera festosa.
URL:https://www.maratone.com/maratone/maratona-di-pisa/
LOCATION:Pisa
ATTACH;FMTTYPE=image/png:https://www.maratone.com/wp-content/uploads/2024/10/422353862_785058223661485_7576487837548660609_n.png
ORGANIZER;CN="Maratona%20Di%20Pisa":MAILTO:segreteria@maratonadipisa.com
END:VEVENT
END:VCALENDAR