BEGIN:VCALENDAR
VERSION:2.0
PRODID:-//Maratone - ECPv5.8.1//NONSGML v1.0//EN
CALSCALE:GREGORIAN
METHOD:PUBLISH
X-WR-CALNAME:Maratone
X-ORIGINAL-URL:https://www.maratone.com
X-WR-CALDESC:Eventi per Maratone
BEGIN:VTIMEZONE
TZID:Europe/Paris
BEGIN:DAYLIGHT
TZOFFSETFROM:+0100
TZOFFSETTO:+0200
TZNAME:CEST
DTSTART:20250330T010000
END:DAYLIGHT
BEGIN:STANDARD
TZOFFSETFROM:+0200
TZOFFSETTO:+0100
TZNAME:CET
DTSTART:20251026T010000
END:STANDARD
END:VTIMEZONE
BEGIN:VEVENT
DTSTART;VALUE=DATE:20250112
DTEND;VALUE=DATE:20250113
DTSTAMP:20260423T195946
CREATED:20241101T143557Z
LAST-MODIFIED:20241101T143557Z
UID:35137-1736640000-1736726399@www.maratone.com
SUMMARY:Mezza Maratona Int.le delle Due Perle
DESCRIPTION:
URL:https://www.maratone.com/maratone/mezza-maratona-int-le-delle-due-perle/
LOCATION:SANTA MARGHERITA LIGURE
ATTACH;FMTTYPE=image/png:https://www.maratone.com/wp-content/uploads/2024/11/Cattura-15.png
ORGANIZER;CN="Organizzazione%20Atletica%20Due%20Perle":MAILTO:info@maratoninaportofino.it
END:VEVENT
END:VCALENDAR