BEGIN:VCALENDAR
VERSION:2.0
PRODID:-//Maratone - ECPv5.8.1//NONSGML v1.0//EN
CALSCALE:GREGORIAN
METHOD:PUBLISH
X-WR-CALNAME:Maratone
X-ORIGINAL-URL:https://www.maratone.com
X-WR-CALDESC:Eventi per Maratone
BEGIN:VTIMEZONE
TZID:Europe/Paris
BEGIN:DAYLIGHT
TZOFFSETFROM:+0100
TZOFFSETTO:+0200
TZNAME:CEST
DTSTART:20260329T010000
END:DAYLIGHT
BEGIN:STANDARD
TZOFFSETFROM:+0200
TZOFFSETTO:+0100
TZNAME:CET
DTSTART:20261025T010000
END:STANDARD
END:VTIMEZONE
BEGIN:VEVENT
DTSTART;VALUE=DATE:20260222
DTEND;VALUE=DATE:20260223
DTSTAMP:20260421T121725
CREATED:20241024T131405Z
LAST-MODIFIED:20251018T165446Z
UID:34967-1771718400-1771804799@www.maratone.com
SUMMARY:Verdi Marathon
DESCRIPTION:
URL:https://www.maratone.com/maratone/verdi-marathon/
LOCATION:Salsomaggiore
ATTACH;FMTTYPE=image/png:https://www.maratone.com/wp-content/uploads/2024/10/slide-10k.png
ORGANIZER;CN="PARMARATHON%20ASD":MAILTO:segreteria@parmamarathon.it
END:VEVENT
END:VCALENDAR